BEGIN:VCALENDAR
VERSION:2.0
PRODID:-//YV CARE - ECPv6.0.13.1//NONSGML v1.0//EN
CALSCALE:GREGORIAN
METHOD:PUBLISH
X-ORIGINAL-URL:https://yvcare.in
X-WR-CALDESC:Events for YV CARE
REFRESH-INTERVAL;VALUE=DURATION:PT1H
X-Robots-Tag:noindex
X-PUBLISHED-TTL:PT1H
BEGIN:VTIMEZONE
TZID:UTC
BEGIN:STANDARD
TZOFFSETFROM:+0000
TZOFFSETTO:+0000
TZNAME:UTC
DTSTART:20230101T000000
END:STANDARD
END:VTIMEZONE
BEGIN:VEVENT
DTSTART;TZID=UTC:20230107T193000
DTEND;TZID=UTC:20230107T223000
DTSTAMP:20260423T194634
CREATED:20230108T091728Z
LAST-MODIFIED:20240527T070154Z
UID:11401-1673119800-1673130600@yvcare.in
SUMMARY:YVCare Vegan Movie Club - Okja
DESCRIPTION:YVCare ने हर ३ सप्ताह में एक फिल्म दिखाने के लिए वीगन मूवी क्लब शुरू किया है.. हमारी पहली फिल्म OKJA थी। \nYVCare has started a vegan Movie Club\, to screen a movie once every 3 weeks… Our First movie was OKJA.
URL:https://yvcare.in/event/all-india-seminar-copy-2/
CATEGORIES:Documentary viewing,Movie Screening & Potluck
ATTACH;FMTTYPE=image/jpeg:https://yvcare.in/wp-content/uploads/2023/04/OKJA-3.jpg
END:VEVENT
END:VCALENDAR