BEGIN:VCALENDAR
VERSION:2.0
PRODID:-//YV CARE - ECPv6.0.13.1//NONSGML v1.0//EN
CALSCALE:GREGORIAN
METHOD:PUBLISH
X-WR-CALNAME:YV CARE
X-ORIGINAL-URL:https://yvcare.in
X-WR-CALDESC:Events for YV CARE
REFRESH-INTERVAL;VALUE=DURATION:PT1H
X-Robots-Tag:noindex
X-PUBLISHED-TTL:PT1H
BEGIN:VTIMEZONE
TZID:UTC
BEGIN:STANDARD
TZOFFSETFROM:+0000
TZOFFSETTO:+0000
TZNAME:UTC
DTSTART:20230101T000000
END:STANDARD
END:VTIMEZONE
BEGIN:VEVENT
DTSTART;TZID=UTC:20231028T093000
DTEND;TZID=UTC:20231029T190000
DTSTAMP:20260420T160248
CREATED:20231101T092449Z
LAST-MODIFIED:20241014T093504Z
UID:11802-1698485400-1698606000@yvcare.in
SUMMARY:YVCare Earth Fest\, Mumbai - 28 & 29 Oct. 2023
DESCRIPTION:Welcome to India’s biggest YVCare Earth Festival 2023\, celebrating Earth\, Environment\, Ahimsa\, Sustainability\, Compassion\, and Health through a cruelty-free lifestyle. Free entry for all. \nOur Mission: Connect\, inspire\, and drive sustainable transformation. \nExplore sustainability\, environment\, health\, and ethical living. \nWhy Visit: \n\nIndia’s largest YVCare Earth Festival.\nShowcasing cruelty-free products.\nConnect with sustainable brands.\nDiscover ethical options in food\, fashion\, cosmetics\, and more.\nExpand your network and brand presence.\n\nJoin us on October 28th and 29th\, 2023\, to live your values of compassion and eco-friendliness. \nRegister now to elevate your ethical business and connect with a broader audience. \nWhat’s in Fest: \n\n200+ edible and lifestyle products and businesses.\n120+ stalls with cruelty-free food and more.\n50+ talks on health\, environment\, and fitness.\nFree workshops on climate change and sustainability.\nLive cooking workshops and performances.\n\nBe part of #YVCareEarth Festival for an enriching experience! \nFest Website : link
URL:https://yvcare.in/event/yvcare-earth-fest/
CATEGORIES:Other Activities
ATTACH;FMTTYPE=image/jpeg:https://yvcare.in/wp-content/uploads/2023/09/Untitled-design-2023-11-23T115229.369-min.jpg
END:VEVENT
END:VCALENDAR