BEGIN:VCALENDAR
VERSION:2.0
PRODID:-//YV CARE - ECPv6.0.13.1//NONSGML v1.0//EN
CALSCALE:GREGORIAN
METHOD:PUBLISH
X-WR-CALNAME:YV CARE
X-ORIGINAL-URL:https://yvcare.in
X-WR-CALDESC:Events for YV CARE
REFRESH-INTERVAL;VALUE=DURATION:PT1H
X-Robots-Tag:noindex
X-PUBLISHED-TTL:PT1H
BEGIN:VTIMEZONE
TZID:UTC
BEGIN:STANDARD
TZOFFSETFROM:+0000
TZOFFSETTO:+0000
TZNAME:UTC
DTSTART:20230101T000000
END:STANDARD
END:VTIMEZONE
BEGIN:VEVENT
DTSTART;TZID=UTC:20230514T110000
DTEND;TZID=UTC:20230514T160000
DTSTAMP:20260420T090049
CREATED:20230516T105406Z
LAST-MODIFIED:20230531T080743Z
UID:11622-1684062000-1684080000@yvcare.in
SUMMARY:We are Earthlings Seminar - Mumbai\,14th May 2023
DESCRIPTION:26 of us gathered for a 5 hours awareness session around the impact of Animal Agriculture on Earth and Earthlings. We had 21 nonvegans attend the session\, who learned in depth the principles of Veganism. The seeds of compassion were nurtured and planted deep within every individual. \nपृथ्वी और पृथ्वीवासियों पर पशु कृषि के दुषप्रभाव के बारे में जागरूकता फैलाने के लिए\, हम 26 लोग एकत्रित हुए। इस ५ घंटे के सत्र में 21 नए लोग आये\, जिन्होंने वीगनवाद के सिद्धांतों को गहराई से सीखा। करुणा के बीज को प्रत्येक व्यक्ति के भीतर गहराई से बोया गया।
URL:https://yvcare.in/event/we-are-earthlings/
CATEGORIES:Events
ATTACH;FMTTYPE=image/jpeg:https://yvcare.in/wp-content/uploads/2023/05/We-are-Earthlings-1.jpg
END:VEVENT
END:VCALENDAR